BEGIN:VCALENDAR
VERSION:2.0
PRODID:-//Wyoming FFA - ECPv6.15.20//NONSGML v1.0//EN
CALSCALE:GREGORIAN
METHOD:PUBLISH
X-WR-CALNAME:Wyoming FFA
X-ORIGINAL-URL:https://association.wyffa.org
X-WR-CALDESC:Events for Wyoming FFA
REFRESH-INTERVAL;VALUE=DURATION:PT1H
X-Robots-Tag:noindex
X-PUBLISHED-TTL:PT1H
BEGIN:VTIMEZONE
TZID:America/Denver
BEGIN:DAYLIGHT
TZOFFSETFROM:-0700
TZOFFSETTO:-0600
TZNAME:MDT
DTSTART:20250309T090000
END:DAYLIGHT
BEGIN:STANDARD
TZOFFSETFROM:-0600
TZOFFSETTO:-0700
TZNAME:MST
DTSTART:20251102T080000
END:STANDARD
BEGIN:DAYLIGHT
TZOFFSETFROM:-0700
TZOFFSETTO:-0600
TZNAME:MDT
DTSTART:20260308T090000
END:DAYLIGHT
BEGIN:STANDARD
TZOFFSETFROM:-0600
TZOFFSETTO:-0700
TZNAME:MST
DTSTART:20261101T080000
END:STANDARD
BEGIN:DAYLIGHT
TZOFFSETFROM:-0700
TZOFFSETTO:-0600
TZNAME:MDT
DTSTART:20270314T090000
END:DAYLIGHT
BEGIN:STANDARD
TZOFFSETFROM:-0600
TZOFFSETTO:-0700
TZNAME:MST
DTSTART:20271107T080000
END:STANDARD
END:VTIMEZONE
BEGIN:VEVENT
DTSTART;TZID=America/Denver:20260408T100000
DTEND;TZID=America/Denver:20260408T133000
DTSTAMP:20260424T163300
CREATED:20260203T233634Z
LAST-MODIFIED:20260404T193009Z
UID:2735-1775642400-1775655000@association.wyffa.org
SUMMARY:Agricultural Issues Forum LDE – Preliminary Round
DESCRIPTION:LCCC\, CCI 129 & 130
URL:https://association.wyffa.org/event/agricultural-issues-forum-lde-prelim-round/
LOCATION:LCCC\, 1400 E College Dr\, Cheyenne\, Wyoming\, 82007\, United States
CATEGORIES:2026 Wyoming FFA Convention
END:VEVENT
BEGIN:VEVENT
DTSTART;TZID=America/Denver:20260408T100000
DTEND;TZID=America/Denver:20260408T100000
DTSTAMP:20260424T163300
CREATED:20260203T233743Z
LAST-MODIFIED:20260404T193113Z
UID:2737-1775642400-1775642400@association.wyffa.org
SUMMARY:Employment Skills LDE Check-In\, Interviews begin directly after
DESCRIPTION:LCCC\, Health Science – Holding Room 115
URL:https://association.wyffa.org/event/employment-skills-lde-check-in-interviews-begin-directlyafter/
LOCATION:LCCC\, 1400 E College Dr\, Cheyenne\, Wyoming\, 82007\, United States
CATEGORIES:2026 Wyoming FFA Convention
END:VEVENT
BEGIN:VEVENT
DTSTART;TZID=America/Denver:20260408T094500
DTEND;TZID=America/Denver:20260408T123000
DTSTAMP:20260424T163300
CREATED:20260203T231457Z
LAST-MODIFIED:20260404T202539Z
UID:2732-1775641500-1775651400@association.wyffa.org
SUMMARY:Prepared Public Speaking LDE
DESCRIPTION:LCCC\, Pathfinder Leadership Center 108/109
URL:https://association.wyffa.org/event/prepared-public-speaking-lde/
LOCATION:LCCC\, 1400 E College Dr\, Cheyenne\, Wyoming\, 82007\, United States
CATEGORIES:2026 Wyoming FFA Convention
ATTACH;FMTTYPE=image/png:https://association.wyffa.org/wp-content/uploads/2026/02/Prepared-Speaking-Finalists.png
END:VEVENT
BEGIN:VEVENT
DTSTART;TZID=America/Denver:20260408T093000
DTEND;TZID=America/Denver:20260408T153000
DTSTAMP:20260424T163300
CREATED:20260203T230813Z
LAST-MODIFIED:20260323T153153Z
UID:2726-1775640600-1775662200@association.wyffa.org
SUMMARY:Parliamentary Procedure LDE\, Final Round
DESCRIPTION:LCCC\, Pathfinder Leadership Center 108/109
URL:https://association.wyffa.org/event/parliamentary-procedure-lde-final-round/
LOCATION:LCCC\, 1400 E College Dr\, Cheyenne\, Wyoming\, 82007\, United States
CATEGORIES:2026 Wyoming FFA Convention
END:VEVENT
BEGIN:VEVENT
DTSTART;TZID=America/Denver:20260408T093000
DTEND;TZID=America/Denver:20260408T094500
DTSTAMP:20260424T163300
CREATED:20260203T231132Z
LAST-MODIFIED:20260404T185454Z
UID:2728-1775640600-1775641500@association.wyffa.org
SUMMARY:Prepared Public Speaking LDE Check-In/JUDGES MEETING
DESCRIPTION:LCCC\, Surbrugg/Prentice Auditorium
URL:https://association.wyffa.org/event/prepared-public-lde-speaking-check-in-mic-check/
LOCATION:LCCC\, 1400 E College Dr\, Cheyenne\, Wyoming\, 82007\, United States
CATEGORIES:2026 Wyoming FFA Convention
END:VEVENT
BEGIN:VEVENT
DTSTART;TZID=America/Denver:20260408T083000
DTEND;TZID=America/Denver:20260408T093000
DTSTAMP:20260424T163300
CREATED:20260203T225215Z
LAST-MODIFIED:20260316T225542Z
UID:2724-1775637000-1775640600@association.wyffa.org
SUMMARY:Parliamentary Procedure Coaches Meeting & Test
DESCRIPTION:LCCC\, Pathfinder Leadership Center 108/109
URL:https://association.wyffa.org/event/parliamentary-procedure-coaches-meeting/
LOCATION:LCCC\, 1400 E College Dr\, Cheyenne\, Wyoming\, 82007\, United States
CATEGORIES:2026 Wyoming FFA Convention
END:VEVENT
BEGIN:VEVENT
DTSTART;TZID=America/Denver:20260408T080000
DTEND;TZID=America/Denver:20260408T170000
DTSTAMP:20260424T163300
CREATED:20260203T224657Z
LAST-MODIFIED:20260316T225455Z
UID:2722-1775635200-1775667600@association.wyffa.org
SUMMARY:Environmental & Natural Resources LDE
DESCRIPTION:LCCC Ag Department
URL:https://association.wyffa.org/event/environmental-natural-resources-lde/
LOCATION:LCCC\, 1400 E College Dr\, Cheyenne\, Wyoming\, 82007\, United States
CATEGORIES:2026 Wyoming FFA Convention
END:VEVENT
BEGIN:VEVENT
DTSTART;TZID=America/Denver:20260408T080000
DTEND;TZID=America/Denver:20260408T100000
DTSTAMP:20260424T163300
CREATED:20260203T224353Z
LAST-MODIFIED:20260404T201707Z
UID:2720-1775635200-1775642400@association.wyffa.org
SUMMARY:Creed Speaking LDE
DESCRIPTION:LCCC\, Surbrugg/Prentice Auditorium
URL:https://association.wyffa.org/event/creed-speaking-lde/
LOCATION:LCCC\, 1400 E College Dr\, Cheyenne\, Wyoming\, 82007\, United States
CATEGORIES:2026 Wyoming FFA Convention
ATTACH;FMTTYPE=image/png:https://association.wyffa.org/wp-content/uploads/2026/02/Creed-Speaking-Finalists-1.png
END:VEVENT
BEGIN:VEVENT
DTSTART;TZID=America/Denver:20260408T074500
DTEND;TZID=America/Denver:20260408T080000
DTSTAMP:20260424T163300
CREATED:20260203T224208Z
LAST-MODIFIED:20260404T185122Z
UID:2716-1775634300-1775635200@association.wyffa.org
SUMMARY:Creed Speaking LDE Check-In & JUDGES MEETING
DESCRIPTION:LCCC\, Surbrugg/Prentice Auditorium
URL:https://association.wyffa.org/event/creed-speaking-lde-check-in/
LOCATION:LCCC\, 1400 E College Dr\, Cheyenne\, Wyoming\, 82007\, United States
CATEGORIES:2026 Wyoming FFA Convention
END:VEVENT
END:VCALENDAR